BEGIN:VCALENDAR
VERSION:2.0
PRODID:-//Three Rivers Ringers - ECPv6.15.20//NONSGML v1.0//EN
CALSCALE:GREGORIAN
METHOD:PUBLISH
X-WR-CALNAME:Three Rivers Ringers
X-ORIGINAL-URL:http://www.threeriversringers.org
X-WR-CALDESC:Events for Three Rivers Ringers
REFRESH-INTERVAL;VALUE=DURATION:PT1H
X-Robots-Tag:noindex
X-PUBLISHED-TTL:PT1H
BEGIN:VTIMEZONE
TZID:America/New_York
BEGIN:DAYLIGHT
TZOFFSETFROM:-0500
TZOFFSETTO:-0400
TZNAME:EDT
DTSTART:20240310T070000
END:DAYLIGHT
BEGIN:STANDARD
TZOFFSETFROM:-0400
TZOFFSETTO:-0500
TZNAME:EST
DTSTART:20241103T060000
END:STANDARD
BEGIN:DAYLIGHT
TZOFFSETFROM:-0500
TZOFFSETTO:-0400
TZNAME:EDT
DTSTART:20250309T070000
END:DAYLIGHT
BEGIN:STANDARD
TZOFFSETFROM:-0400
TZOFFSETTO:-0500
TZNAME:EST
DTSTART:20251102T060000
END:STANDARD
BEGIN:DAYLIGHT
TZOFFSETFROM:-0500
TZOFFSETTO:-0400
TZNAME:EDT
DTSTART:20260308T070000
END:DAYLIGHT
BEGIN:STANDARD
TZOFFSETFROM:-0400
TZOFFSETTO:-0500
TZNAME:EST
DTSTART:20261101T060000
END:STANDARD
END:VTIMEZONE
BEGIN:VEVENT
DTSTART;TZID=America/New_York:20251206T190000
DTEND;TZID=America/New_York:20251206T203000
DTSTAMP:20260421T212427
CREATED:20251116T202644Z
LAST-MODIFIED:20251116T203023Z
UID:25725-1765047600-1765053000@www.threeriversringers.org
SUMMARY:Carols of Christmas - Wexford
DESCRIPTION:Ring in the holiday season with Pittsburgh’s premier handbell ensemble! Three Rivers Ringers performs its Winter Concert Series\, Carols of Christmas\, this December\, filled with memorable tunes including the nostalgic music from Rudolph the Red-Nosed Reindeer\, a popular tune from How the Grinch Stole Christmas\, the traditional O Come All Ye Faithful and a breathtaking setting of It Came Upon the Midnight Clear. Bring the whole family to celebrate the magic of the holiday season with Three Rivers Ringers! \nFREE\, donations encouraged. \nSaturday\, December 6 at 7:00 PM\nPerry Highway Lutheran Church\n11403 Perry Highway\nWexford\, PA  15090
URL:http://www.threeriversringers.org/event/carols-of-christmas-wexford/
LOCATION:Perry Highway Lutheran Church\, 11403 Perry Highway\, Wexford\, PA\, 15090\, United States
CATEGORIES:Concert
ORGANIZER;CN="Three Rivers Ringers":MAILTO:info@threeriversringers.org
END:VEVENT
BEGIN:VEVENT
DTSTART;TZID=America/New_York:20251212T200000
DTEND;TZID=America/New_York:20251212T213000
DTSTAMP:20260421T212427
CREATED:20251116T202953Z
LAST-MODIFIED:20251116T202953Z
UID:25727-1765569600-1765575000@www.threeriversringers.org
SUMMARY:Carols of Christmas - Mt. Lebanon
DESCRIPTION:Ring in the holiday season with Pittsburgh’s premier handbell ensemble! Three Rivers Ringers performs its Winter Concert Series\, Carols of Christmas\, this December\, filled with memorable tunes including the nostalgic music from Rudolph the Red-Nosed Reindeer\, a popular tune from How the Grinch Stole Christmas\, the traditional O Come All Ye Faithful and a breathtaking setting of It Came Upon the Midnight Clear. Bring the whole family to celebrate the magic of the holiday season with Three Rivers Ringers! \nFREE\, donations encouraged. \nFriday\, December 12 at 8:00 PM\nBower Hill Community Church\n70 Moffett St\nPittsburgh\, PA  15243
URL:http://www.threeriversringers.org/event/carols-of-christmas-mt-lebanon/
LOCATION:Bower Hill Community Church\, 70 Moffett St\, Pittsburgh\, PA\, 15243\, United States
CATEGORIES:Concert
ORGANIZER;CN="Three Rivers Ringers":MAILTO:info@threeriversringers.org
END:VEVENT
BEGIN:VEVENT
DTSTART;TZID=America/New_York:20251213T190000
DTEND;TZID=America/New_York:20251213T203000
DTSTAMP:20260421T212427
CREATED:20251116T203142Z
LAST-MODIFIED:20251213T195759Z
UID:25730-1765652400-1765657800@www.threeriversringers.org
SUMMARY:Carols of Christmas - Allison Park
DESCRIPTION:Ring in the holiday season with Pittsburgh’s premier handbell ensemble! Three Rivers Ringers performs its Winter Concert Series\, Carols of Christmas\, this December\, filled with memorable tunes including the nostalgic music from Rudolph the Red-Nosed Reindeer\, a popular tune from How the Grinch Stole Christmas\, the traditional O Come All Ye Faithful and a breathtaking setting of It Came Upon the Midnight Clear. Bring the whole family to celebrate the magic of the holiday season with Three Rivers Ringers! \nFREE\, donations encouraged. \nSaturday\, December 13 at 7:00 PM\nSt. Paul’s United Methodist Church\n1965 Ferguson Rd\nAllison Park\, PA  15101 \n  \nYou may also watch the livestream on TRR’s YouTube Channel (see below) and view the digital program here.
URL:http://www.threeriversringers.org/event/carols-of-christmas-allison-park/
LOCATION:St. Paul’s United Methodist Church\, 1965 Ferguson Rd\, Allison Park\, PA\, 15101\, United States
CATEGORIES:Concert
ORGANIZER;CN="Three Rivers Ringers":MAILTO:info@threeriversringers.org
END:VEVENT
BEGIN:VEVENT
DTSTART;TZID=America/New_York:20251219T193000
DTEND;TZID=America/New_York:20251219T210000
DTSTAMP:20260421T212427
CREATED:20251116T203429Z
LAST-MODIFIED:20251116T203429Z
UID:25732-1766172600-1766178000@www.threeriversringers.org
SUMMARY:Carols of Christmas - Washington
DESCRIPTION:Ring in the holiday season with Pittsburgh’s premier handbell ensemble! Three Rivers Ringers performs its Winter Concert Series\, Carols of Christmas\, this December\, filled with memorable tunes including the nostalgic music from Rudolph the Red-Nosed Reindeer\, a popular tune from How the Grinch Stole Christmas\, the traditional O Come All Ye Faithful and a breathtaking setting of It Came Upon the Midnight Clear. Bring the whole family to celebrate the magic of the holiday season with Three Rivers Ringers! \nFREE\, donations encouraged. \nFriday\, December 19 at 7:30 PM\nFirst Presbyterian Church\, 1793\n100 East Wheeling St\nWashington\, PA  15301
URL:http://www.threeriversringers.org/event/carols-of-christmas-washington/
LOCATION:First Presbyterian Church\, 1793\, 100 E. Wheeling St\, Washington\, PA\, 15301\, United States
CATEGORIES:Concert
ORGANIZER;CN="Three Rivers Ringers":MAILTO:info@threeriversringers.org
END:VEVENT
BEGIN:VEVENT
DTSTART;TZID=America/New_York:20251221T190000
DTEND;TZID=America/New_York:20251221T203000
DTSTAMP:20260421T212427
CREATED:20251116T203831Z
LAST-MODIFIED:20251116T203831Z
UID:25734-1766343600-1766349000@www.threeriversringers.org
SUMMARY:Carols of Christmas - Sewickley
DESCRIPTION:Ring in the holiday season with Pittsburgh’s premier handbell ensemble! Three Rivers Ringers performs its Winter Concert Series\, Carols of Christmas\, this December\, filled with memorable tunes including the nostalgic music from Rudolph the Red-Nosed Reindeer\, a popular tune from How the Grinch Stole Christmas\, the traditional O Come All Ye Faithful and a breathtaking setting of It Came Upon the Midnight Clear. Bring the whole family to celebrate the magic of the holiday season with Three Rivers Ringers! \nFREE\, donations encouraged. \nSunday\, December 21 at 7:00 PM\nSewickley United Methodist Church\n337 Broad St\nSewickley\, PA  15143
URL:http://www.threeriversringers.org/event/carols-of-christmas-sewickley/
LOCATION:Sewickley United Methodist Church\, 337 Broad St\, Sewickley\, PA\, 15143\, United States
CATEGORIES:Concert
ORGANIZER;CN="Three Rivers Ringers":MAILTO:info@threeriversringers.org
END:VEVENT
END:VCALENDAR