BEGIN:VCALENDAR
VERSION:2.0
PRODID:-//Three Rivers Ringers - ECPv6.15.20//NONSGML v1.0//EN
CALSCALE:GREGORIAN
METHOD:PUBLISH
X-WR-CALNAME:Three Rivers Ringers
X-ORIGINAL-URL:http://www.threeriversringers.org
X-WR-CALDESC:Events for Three Rivers Ringers
REFRESH-INTERVAL;VALUE=DURATION:PT1H
X-Robots-Tag:noindex
X-PUBLISHED-TTL:PT1H
BEGIN:VTIMEZONE
TZID:America/New_York
BEGIN:DAYLIGHT
TZOFFSETFROM:-0500
TZOFFSETTO:-0400
TZNAME:EDT
DTSTART:20240310T070000
END:DAYLIGHT
BEGIN:STANDARD
TZOFFSETFROM:-0400
TZOFFSETTO:-0500
TZNAME:EST
DTSTART:20241103T060000
END:STANDARD
BEGIN:DAYLIGHT
TZOFFSETFROM:-0500
TZOFFSETTO:-0400
TZNAME:EDT
DTSTART:20250309T070000
END:DAYLIGHT
BEGIN:STANDARD
TZOFFSETFROM:-0400
TZOFFSETTO:-0500
TZNAME:EST
DTSTART:20251102T060000
END:STANDARD
BEGIN:DAYLIGHT
TZOFFSETFROM:-0500
TZOFFSETTO:-0400
TZNAME:EDT
DTSTART:20260308T070000
END:DAYLIGHT
BEGIN:STANDARD
TZOFFSETFROM:-0400
TZOFFSETTO:-0500
TZNAME:EST
DTSTART:20261101T060000
END:STANDARD
END:VTIMEZONE
BEGIN:VEVENT
DTSTART;TZID=America/New_York:20250503T190000
DTEND;TZID=America/New_York:20250503T203000
DTSTAMP:20260422T074119
CREATED:20250408T235657Z
LAST-MODIFIED:20250408T235657Z
UID:25705-1746298800-1746304200@www.threeriversringers.org
SUMMARY:The Rhythm of Life - Coraopolis
DESCRIPTION:Join Three Rivers Ringers for the Spring 2025 Concert Series — featuring a rhythmic exploration of music-making. Pittsburgh’s premier handbell ensemble performs a fun and enlightening program of works shaped by musical masters\, past and present\, from a beautiful setting of Bach\, to the propulsive Dorian Dance and the endearing music from Pixar’s Up. Mark your calendars for this exciting evening of classic and contemporary pieces\, in The Rhythm of Life! \nConcerts are FREE\, donations encouraged. \nSaturday\, May 3 at 7:00 PM\nCoraopolis United Methodist Church\n1205 Ridge Ave\nCoraopolis\, PA 15108
URL:http://www.threeriversringers.org/event/the-rhythm-of-life-coraopolis/
LOCATION:Coraopolis United Methodist Church\, 1205 Ridge Ave\, Coraopolis\, PA\, 15108\, United States
CATEGORIES:Concert
ORGANIZER;CN="Three Rivers Ringers":MAILTO:info@threeriversringers.org
END:VEVENT
BEGIN:VEVENT
DTSTART;TZID=America/New_York:20250517T160000
DTEND;TZID=America/New_York:20250517T173000
DTSTAMP:20260422T074119
CREATED:20250408T235916Z
LAST-MODIFIED:20250408T235916Z
UID:25708-1747497600-1747503000@www.threeriversringers.org
SUMMARY:The Rhythm of Life - Glenshaw
DESCRIPTION:Join Three Rivers Ringers for the Spring 2025 Concert Series — featuring a rhythmic exploration of music-making. Pittsburgh’s premier handbell ensemble performs a fun and enlightening program of works shaped by musical masters\, past and present\, from a beautiful setting of Bach\, to the propulsive Dorian Dance and the endearing music from Pixar’s Up. Mark your calendars for this exciting evening of classic and contemporary pieces\, in The Rhythm of Life! \nConcerts are FREE\, donations encouraged. \nSaturday\, May 17 at 4:00 PM\nElfinwild Presbyterian Church\n3200 Mt. Royal Blvd\nGlenshaw\, PA  15116
URL:http://www.threeriversringers.org/event/the-rhythm-of-life-glenshaw/
LOCATION:Elfinwild Presbyterian Church\, 3200 Mt. Royal Blvd\, Glenshaw\, PA\, 15116\, United States
CATEGORIES:Concert
ORGANIZER;CN="Three Rivers Ringers":MAILTO:info@threeriversringers.org
END:VEVENT
END:VCALENDAR