BEGIN:VCALENDAR
VERSION:2.0
PRODID:-//Three Rivers Ringers - ECPv6.15.20//NONSGML v1.0//EN
CALSCALE:GREGORIAN
METHOD:PUBLISH
X-WR-CALNAME:Three Rivers Ringers
X-ORIGINAL-URL:http://www.threeriversringers.org
X-WR-CALDESC:Events for Three Rivers Ringers
REFRESH-INTERVAL;VALUE=DURATION:PT1H
X-Robots-Tag:noindex
X-PUBLISHED-TTL:PT1H
BEGIN:VTIMEZONE
TZID:America/New_York
BEGIN:DAYLIGHT
TZOFFSETFROM:-0500
TZOFFSETTO:-0400
TZNAME:EDT
DTSTART:20230312T070000
END:DAYLIGHT
BEGIN:STANDARD
TZOFFSETFROM:-0400
TZOFFSETTO:-0500
TZNAME:EST
DTSTART:20231105T060000
END:STANDARD
BEGIN:DAYLIGHT
TZOFFSETFROM:-0500
TZOFFSETTO:-0400
TZNAME:EDT
DTSTART:20240310T070000
END:DAYLIGHT
BEGIN:STANDARD
TZOFFSETFROM:-0400
TZOFFSETTO:-0500
TZNAME:EST
DTSTART:20241103T060000
END:STANDARD
BEGIN:DAYLIGHT
TZOFFSETFROM:-0500
TZOFFSETTO:-0400
TZNAME:EDT
DTSTART:20250309T070000
END:DAYLIGHT
BEGIN:STANDARD
TZOFFSETFROM:-0400
TZOFFSETTO:-0500
TZNAME:EST
DTSTART:20251102T060000
END:STANDARD
END:VTIMEZONE
BEGIN:VEVENT
DTSTART;TZID=America/New_York:20240412T193000
DTEND;TZID=America/New_York:20240412T210000
DTSTAMP:20260423T025104
CREATED:20240327T154848Z
LAST-MODIFIED:20240327T154848Z
UID:25623-1712950200-1712955600@www.threeriversringers.org
SUMMARY:Bell Changes - Bethel Park\, PA
DESCRIPTION:This spring\, Three Rivers Ringers presents a series of concerts showing the evolution of handbell music. In Bell Changes\, you will hear arrangements of sacred music to modern compositions showcasing handbells as a musical instrument in their own right. The repertoire ranges from the dramatic Toccata on King’s Weston\, to Pirates of the Caribbean to an exciting original handbell composition\, Exultate. \nConcerts are FREE\, donations encouraged. \n 
URL:http://www.threeriversringers.org/event/bell-changes-bethel-park-pa/
LOCATION:Resurrection Parish (St. Thomas More Church)\, 126 Fort Couch Rd\, Pittsburgh\, PA\, 15241\, United States
CATEGORIES:Concert
ORGANIZER;CN="Three Rivers Ringers":MAILTO:info@threeriversringers.org
END:VEVENT
BEGIN:VEVENT
DTSTART;TZID=America/New_York:20240413T193000
DTEND;TZID=America/New_York:20240413T210000
DTSTAMP:20260423T025104
CREATED:20240327T155218Z
LAST-MODIFIED:20240327T155218Z
UID:25627-1713036600-1713042000@www.threeriversringers.org
SUMMARY:Bell Changes - North Versailles
DESCRIPTION:This spring\, Three Rivers Ringers presents a series of concerts showing the evolution of handbell music. In Bell Changes\, you will hear arrangements of sacred music to modern compositions showcasing handbells as a musical instrument in their own right. The repertoire ranges from the dramatic Toccata on King’s Weston\, to Pirates of the Caribbean to an exciting original handbell composition\, Exultate. \nConcerts are FREE\, donations encouraged.
URL:http://www.threeriversringers.org/event/bell-changes-north-versailles/
LOCATION:St John’s Lutheran Church\, 715 Lincoln Highway (Rt 30)\, North Versailles\, PA\, 15137\, United States
CATEGORIES:Concert
ORGANIZER;CN="Three Rivers Ringers":MAILTO:info@threeriversringers.org
END:VEVENT
BEGIN:VEVENT
DTSTART;TZID=America/New_York:20240421T160000
DTEND;TZID=America/New_York:20240421T173000
DTSTAMP:20260423T025104
CREATED:20240327T155419Z
LAST-MODIFIED:20240327T155419Z
UID:25630-1713715200-1713720600@www.threeriversringers.org
SUMMARY:Bell Changes - Washington
DESCRIPTION:This spring\, Three Rivers Ringers presents a series of concerts showing the evolution of handbell music. In Bell Changes\, you will hear arrangements of sacred music to modern compositions showcasing handbells as a musical instrument in their own right. The repertoire ranges from the dramatic Toccata on King’s Weston\, to Pirates of the Caribbean to an exciting original handbell composition\, Exultate. \nConcerts are FREE\, donations encouraged.
URL:http://www.threeriversringers.org/event/bell-changes-washington/
LOCATION:Faith United Presbyterian Church\, 900 East Beau St\, Washington\, PA\, 15301\, United States
CATEGORIES:Concert
ORGANIZER;CN="Three Rivers Ringers":MAILTO:info@threeriversringers.org
END:VEVENT
BEGIN:VEVENT
DTSTART;TZID=America/New_York:20240428T160000
DTEND;TZID=America/New_York:20240428T173000
DTSTAMP:20260423T025104
CREATED:20240327T155825Z
LAST-MODIFIED:20240327T155825Z
UID:25632-1714320000-1714325400@www.threeriversringers.org
SUMMARY:Bell Changes - Sewickley
DESCRIPTION:This spring\, Three Rivers Ringers presents a series of concerts showing the evolution of handbell music. In Bell Changes\, you will hear arrangements of sacred music to modern compositions showcasing handbells as a musical instrument in their own right. The repertoire ranges from the dramatic Toccata on King’s Weston\, to Pirates of the Caribbean to an exciting original handbell composition\, Exultate. \nConcerts are FREE\, donations encouraged.
URL:http://www.threeriversringers.org/event/bell-changes-sewickley/
LOCATION:St. Stephen’s Church\, 405 Frederick Ave\, Sewickley\, PA\, 15143\, United States
CATEGORIES:Concert
ORGANIZER;CN="Three Rivers Ringers":MAILTO:info@threeriversringers.org
END:VEVENT
END:VCALENDAR