BEGIN:VCALENDAR
VERSION:2.0
PRODID:-//Three Rivers Ringers - ECPv6.15.20//NONSGML v1.0//EN
CALSCALE:GREGORIAN
METHOD:PUBLISH
X-ORIGINAL-URL:http://www.threeriversringers.org
X-WR-CALDESC:Events for Three Rivers Ringers
REFRESH-INTERVAL;VALUE=DURATION:PT1H
X-Robots-Tag:noindex
X-PUBLISHED-TTL:PT1H
BEGIN:VTIMEZONE
TZID:America/New_York
BEGIN:DAYLIGHT
TZOFFSETFROM:-0500
TZOFFSETTO:-0400
TZNAME:EDT
DTSTART:20220313T070000
END:DAYLIGHT
BEGIN:STANDARD
TZOFFSETFROM:-0400
TZOFFSETTO:-0500
TZNAME:EST
DTSTART:20221106T060000
END:STANDARD
BEGIN:DAYLIGHT
TZOFFSETFROM:-0500
TZOFFSETTO:-0400
TZNAME:EDT
DTSTART:20230312T070000
END:DAYLIGHT
BEGIN:STANDARD
TZOFFSETFROM:-0400
TZOFFSETTO:-0500
TZNAME:EST
DTSTART:20231105T060000
END:STANDARD
BEGIN:DAYLIGHT
TZOFFSETFROM:-0500
TZOFFSETTO:-0400
TZNAME:EDT
DTSTART:20240310T070000
END:DAYLIGHT
BEGIN:STANDARD
TZOFFSETFROM:-0400
TZOFFSETTO:-0500
TZNAME:EST
DTSTART:20241103T060000
END:STANDARD
END:VTIMEZONE
BEGIN:VEVENT
DTSTART;TZID=America/New_York:20230512T200000
DTEND;TZID=America/New_York:20230512T213000
DTSTAMP:20260423T191244
CREATED:20230317T161236Z
LAST-MODIFIED:20230317T170814Z
UID:25575-1683921600-1683927000@www.threeriversringers.org
SUMMARY:Bells of the 'Burgh - Canonsburg\, PA
DESCRIPTION:Hello neighbor! This May\, Three Rivers Ringers presents their Spring 2023 concert series\, Bells of the ‘Burgh. At these Pittsburgh themed concerts\, you’ll hear a variety of songs which tell the story of the neighborhood including Singin’ In the Rain as performed by Gene Kelly and arranged by Brian Tervo; Pennsylvania Polka arranged by Caleb Onstead; a new original work\, Champaca\, by TRR’s own Elizabeth Peters; and nods to the beloved Fred Rogers\, John Philip Sousa\, and the three rivers. Mark your calendars and bring the whole family! \nFREE\, donations encouraged. \nFriday\, May 12\, 2023 at 8:00 PM\nCanon-McMillan High School\n314 Elm Street Ext\, Canonsburg\, PA 15317
URL:http://www.threeriversringers.org/event/bells-of-the-burgh-canonsburg-pa/
LOCATION:Canon-McMillan High School\, 314 Elm Street Extension\, Canonsburg\, PA\, 15317\, United States
CATEGORIES:Concert
ORGANIZER;CN="Three Rivers Ringers":MAILTO:info@threeriversringers.org
END:VEVENT
BEGIN:VEVENT
DTSTART;TZID=America/New_York:20230513T180000
DTEND;TZID=America/New_York:20230513T193000
DTSTAMP:20260423T191244
CREATED:20230317T170604Z
LAST-MODIFIED:20230317T170604Z
UID:25579-1684000800-1684006200@www.threeriversringers.org
SUMMARY:Bells of the 'Burgh - Elizabeth\, PA
DESCRIPTION:Hello neighbor! This May\, Three Rivers Ringers presents their Spring 2023 concert series\, Bells of the ‘Burgh. At these Pittsburgh themed concerts\, you’ll hear a variety of songs which tell the story of the neighborhood including Singin’ In the Rain as performed by Gene Kelly and arranged by Brian Tervo; Pennsylvania Polka arranged by Caleb Onstead; a new original work\, Champaca\, by TRR’s own Elizabeth Peters; and nods to the beloved Fred Rogers\, John Philip Sousa\, and the three rivers. Mark your calendars and bring the whole family! \nFREE\, donations encouraged. \nSaturday\, May 13\, 2023 at 6:00 PM\nCentral Highlands Community United Methodist Church\n100 Timothy Dr\, Elizabeth\, PA 15037
URL:http://www.threeriversringers.org/event/bells-of-the-burgh-elizabeth-pa/
LOCATION:Central Highlands Community United Methodist Church\, 100 Timothy Dr\, Elizabeth\, PA\, 15037\, United States
CATEGORIES:Concert
ORGANIZER;CN="Three Rivers Ringers":MAILTO:info@threeriversringers.org
END:VEVENT
BEGIN:VEVENT
DTSTART;TZID=America/New_York:20230520T193000
DTEND;TZID=America/New_York:20230520T210000
DTSTAMP:20260423T191244
CREATED:20230317T173715Z
LAST-MODIFIED:20230317T173715Z
UID:25581-1684611000-1684616400@www.threeriversringers.org
SUMMARY:Bells of the 'Burgh - Johnstown\, PA
DESCRIPTION:Hello neighbor! This May\, Three Rivers Ringers presents their Spring 2023 concert series\, Bells of the ‘Burgh. At these Pittsburgh themed concerts\, you’ll hear a variety of songs which tell the story of the neighborhood including Singin’ In the Rain as performed by Gene Kelly and arranged by Brian Tervo; Pennsylvania Polka arranged by Caleb Onstead; a new original work\, Champaca\, by TRR’s own Elizabeth Peters; and nods to the beloved Fred Rogers\, John Philip Sousa\, and the three rivers. Mark your calendars and bring the whole family! \nTickets available at johnstownmusic.org. \nSaturday\, May 20\, 2023 at 7:30 PM\nFirst Presbyterian Church\n309 Lincoln St\, Johnstown\, PA 15901
URL:http://www.threeriversringers.org/event/bells-of-the-burgh-johnstown-pa/
LOCATION:First Presbyterian Church – Johnstown\, 309 Lincoln St\, Johnstown\, PA\, 15901\, United States
CATEGORIES:Concert
ORGANIZER;CN="Three Rivers Ringers":MAILTO:info@threeriversringers.org
END:VEVENT
BEGIN:VEVENT
DTSTART;TZID=America/New_York:20230521T180000
DTEND;TZID=America/New_York:20230521T193000
DTSTAMP:20260423T191244
CREATED:20230317T174201Z
LAST-MODIFIED:20230317T174201Z
UID:25583-1684692000-1684697400@www.threeriversringers.org
SUMMARY:Bells of the 'Burgh - Mt. Lebanon\, PA
DESCRIPTION:Hello neighbor! This May\, Three Rivers Ringers presents their Spring 2023 concert series\, Bells of the ‘Burgh. At these Pittsburgh themed concerts\, you’ll hear a variety of songs which tell the story of the neighborhood including Singin’ In the Rain as performed by Gene Kelly and arranged by Brian Tervo; Pennsylvania Polka arranged by Caleb Onstead; a new original work\, Champaca\, by TRR’s own Elizabeth Peters; and nods to the beloved Fred Rogers\, John Philip Sousa\, and the three rivers. Mark your calendars and bring the whole family! \nFREE\, donations encouraged. \nSunday\, May 21\, 2023 at 6:00 PM\nMt. Lebanon United Methodist Church\n3319 West Liberty Ave\, Pittsburgh\, PA 15216
URL:http://www.threeriversringers.org/event/bells-of-the-burgh-mt-lebanon-pa/
LOCATION:Mt. Lebanon United Methodist Church\, 3319 W. Liberty Ave\, Pittsburgh\, PA\, 15216\, United States
CATEGORIES:Concert
ORGANIZER;CN="Three Rivers Ringers":MAILTO:info@threeriversringers.org
END:VEVENT
END:VCALENDAR