BEGIN:VCALENDAR
VERSION:2.0
PRODID:-//Three Rivers Ringers - ECPv6.15.20//NONSGML v1.0//EN
CALSCALE:GREGORIAN
METHOD:PUBLISH
X-ORIGINAL-URL:http://www.threeriversringers.org
X-WR-CALDESC:Events for Three Rivers Ringers
REFRESH-INTERVAL;VALUE=DURATION:PT1H
X-Robots-Tag:noindex
X-PUBLISHED-TTL:PT1H
BEGIN:VTIMEZONE
TZID:America/New_York
BEGIN:DAYLIGHT
TZOFFSETFROM:-0500
TZOFFSETTO:-0400
TZNAME:EDT
DTSTART:20210314T070000
END:DAYLIGHT
BEGIN:STANDARD
TZOFFSETFROM:-0400
TZOFFSETTO:-0500
TZNAME:EST
DTSTART:20211107T060000
END:STANDARD
BEGIN:DAYLIGHT
TZOFFSETFROM:-0500
TZOFFSETTO:-0400
TZNAME:EDT
DTSTART:20220313T070000
END:DAYLIGHT
BEGIN:STANDARD
TZOFFSETFROM:-0400
TZOFFSETTO:-0500
TZNAME:EST
DTSTART:20221106T060000
END:STANDARD
BEGIN:DAYLIGHT
TZOFFSETFROM:-0500
TZOFFSETTO:-0400
TZNAME:EDT
DTSTART:20230312T070000
END:DAYLIGHT
BEGIN:STANDARD
TZOFFSETFROM:-0400
TZOFFSETTO:-0500
TZNAME:EST
DTSTART:20231105T060000
END:STANDARD
END:VTIMEZONE
BEGIN:VEVENT
DTSTART;TZID=America/New_York:20221202T200000
DTEND;TZID=America/New_York:20221202T200000
DTSTAMP:20260424T030642
CREATED:20221101T225608Z
LAST-MODIFIED:20221112T182924Z
UID:25505-1670011200-1670011200@www.threeriversringers.org
SUMMARY:Season's Ringings - Mt. Lebanon\, PA
DESCRIPTION:Season’s greetings! This December\, Three Rivers Ringers once again presents a series of concerts filled with the wondrous music of the holidays. At Season’s Ringings\, you’ll hear Pittsburgh’s premier handbell ensemble play a wide variety of new gems\, including a beautiful arrangement of Do You Hear What I Hear?\, a sultry Santa Baby\, the joyous Angels We Have Heard on High\, and much more! Plus you’ll hear the newest addition to Three Rivers Ringers’ array of instruments: a historic set of Whitechapel bells from England. Mark your calendars and bring the whole family! \nFREE\, donations encouraged. \nFriday\, December 2\, 2022 at 8:00 PM\nBower Hill Community Church\n70 Moffett St\, Pittsburgh\, PA 15243
URL:http://www.threeriversringers.org/event/seasons-ringings-mt-lebanon-pa/
LOCATION:Bower Hill Community Church\, 70 Moffett St\, Pittsburgh\, PA\, 15243\, United States
CATEGORIES:Concert
ATTACH;FMTTYPE=image/jpeg:http://www.threeriversringers.org/wp-content/uploads/2020/11/Three-Rivers-Ringers-Heinz-Hall-2019-scaled-e1606935600437.jpg
ORGANIZER;CN="Three Rivers Ringers":MAILTO:info@threeriversringers.org
END:VEVENT
BEGIN:VEVENT
DTSTART;TZID=America/New_York:20221203T190000
DTEND;TZID=America/New_York:20221203T190000
DTSTAMP:20260424T030642
CREATED:20221101T225706Z
LAST-MODIFIED:20221112T183051Z
UID:25507-1670094000-1670094000@www.threeriversringers.org
SUMMARY:Season's Ringings - Washington\, PA
DESCRIPTION:Season’s greetings! This December\, Three Rivers Ringers once again presents a series of concerts filled with the wondrous music of the holidays. At Season’s Ringings\, you’ll hear Pittsburgh’s premier handbell ensemble play a wide variety of new gems\, including a beautiful arrangement of Do You Hear What I Hear?\, a sultry Santa Baby\, the joyous Angels We Have Heard on High\, and much more! Plus you’ll hear the newest addition to Three Rivers Ringers’ array of instruments: a historic set of Whitechapel bells from England. Mark your calendars and bring the whole family! \nFREE\, donations encouraged. \nSaturday\, December 3\, 2022 at 7:00 PM\nFirst Presbyterian Church\, 1793\n100 E Wheeling St\, Washington\, PA  15301
URL:http://www.threeriversringers.org/event/seasons-ringings-washington-pa/
LOCATION:First Presbyterian Church\, 1793\, 100 E. Wheeling St\, Washington\, PA\, 15301\, United States
CATEGORIES:Concert
ATTACH;FMTTYPE=image/jpeg:http://www.threeriversringers.org/wp-content/uploads/2020/11/Three-Rivers-Ringers-Heinz-Hall-2019-scaled-e1606935600437.jpg
ORGANIZER;CN="Three Rivers Ringers":MAILTO:info@threeriversringers.org
END:VEVENT
BEGIN:VEVENT
DTSTART;TZID=America/New_York:20221210T180000
DTEND;TZID=America/New_York:20221210T180000
DTSTAMP:20260424T030642
CREATED:20221101T225815Z
LAST-MODIFIED:20221112T183109Z
UID:25509-1670695200-1670695200@www.threeriversringers.org
SUMMARY:Season's Ringings - Elizabeth\, PA
DESCRIPTION:Season’s greetings! This December\, Three Rivers Ringers once again presents a series of concerts filled with the wondrous music of the holidays. At Season’s Ringings\, you’ll hear Pittsburgh’s premier handbell ensemble play a wide variety of new gems\, including a beautiful arrangement of Do You Hear What I Hear?\, a sultry Santa Baby\, the joyous Angels We Have Heard on High\, and much more! Plus you’ll hear the newest addition to Three Rivers Ringers’ array of instruments: a historic set of Whitechapel bells from England. Mark your calendars and bring the whole family! \nFREE\, donations encouraged. \nSaturday\, December 10\, 2022 at 6:00 PM\nCentral Highlands Community United Methodist Church\n100 Timothy Dr\, Elizabeth\, PA  15037
URL:http://www.threeriversringers.org/event/holiday-concert-elizabeth-pa/
LOCATION:Central Highlands Community United Methodist Church\, 100 Timothy Dr\, Elizabeth\, PA\, 15037\, United States
CATEGORIES:Concert
ATTACH;FMTTYPE=image/jpeg:http://www.threeriversringers.org/wp-content/uploads/2020/11/Three-Rivers-Ringers-Heinz-Hall-2019-scaled-e1606935600437.jpg
ORGANIZER;CN="Three Rivers Ringers":MAILTO:info@threeriversringers.org
END:VEVENT
BEGIN:VEVENT
DTSTART;TZID=America/New_York:20221218T193000
DTEND;TZID=America/New_York:20221218T193000
DTSTAMP:20260424T030642
CREATED:20221101T225905Z
LAST-MODIFIED:20221112T183128Z
UID:25511-1671391800-1671391800@www.threeriversringers.org
SUMMARY:Season's Ringings - Allison Park\, PA
DESCRIPTION:Season’s greetings! This December\, Three Rivers Ringers once again presents a series of concerts filled with the wondrous music of the holidays. At Season’s Ringings\, you’ll hear Pittsburgh’s premier handbell ensemble play a wide variety of new gems\, including a beautiful arrangement of Do You Hear What I Hear?\, a sultry Santa Baby\, the joyous Angels We Have Heard on High\, and much more! Plus you’ll hear the newest addition to Three Rivers Ringers’ array of instruments: a historic set of Whitechapel bells from England. Mark your calendars and bring the whole family! \nFREE\, donations encouraged. \nSunday\, December 18\, 2022 at 7:30 PM\nSt. Paul’s United Methodist Church\n1965 Ferguson Rd\, Allison Park\, PA 15101 \n  \n 
URL:http://www.threeriversringers.org/event/seasons-ringings-allison-park-pa/
LOCATION:St. Paul’s United Methodist Church\, 1965 Ferguson Rd\, Allison Park\, PA\, 15101\, United States
CATEGORIES:Concert
ATTACH;FMTTYPE=image/jpeg:http://www.threeriversringers.org/wp-content/uploads/2020/11/Three-Rivers-Ringers-Heinz-Hall-2019-scaled-e1606935600437.jpg
ORGANIZER;CN="Three Rivers Ringers":MAILTO:info@threeriversringers.org
END:VEVENT
END:VCALENDAR