BEGIN:VCALENDAR
VERSION:2.0
PRODID:-//Three Rivers Ringers - ECPv6.15.20//NONSGML v1.0//EN
CALSCALE:GREGORIAN
METHOD:PUBLISH
X-WR-CALNAME:Three Rivers Ringers
X-ORIGINAL-URL:http://www.threeriversringers.org
X-WR-CALDESC:Events for Three Rivers Ringers
REFRESH-INTERVAL;VALUE=DURATION:PT1H
X-Robots-Tag:noindex
X-PUBLISHED-TTL:PT1H
BEGIN:VTIMEZONE
TZID:America/New_York
BEGIN:DAYLIGHT
TZOFFSETFROM:-0500
TZOFFSETTO:-0400
TZNAME:EDT
DTSTART:20210314T070000
END:DAYLIGHT
BEGIN:STANDARD
TZOFFSETFROM:-0400
TZOFFSETTO:-0500
TZNAME:EST
DTSTART:20211107T060000
END:STANDARD
BEGIN:DAYLIGHT
TZOFFSETFROM:-0500
TZOFFSETTO:-0400
TZNAME:EDT
DTSTART:20220313T070000
END:DAYLIGHT
BEGIN:STANDARD
TZOFFSETFROM:-0400
TZOFFSETTO:-0500
TZNAME:EST
DTSTART:20221106T060000
END:STANDARD
BEGIN:DAYLIGHT
TZOFFSETFROM:-0500
TZOFFSETTO:-0400
TZNAME:EDT
DTSTART:20230312T070000
END:DAYLIGHT
BEGIN:STANDARD
TZOFFSETFROM:-0400
TZOFFSETTO:-0500
TZNAME:EST
DTSTART:20231105T060000
END:STANDARD
END:VTIMEZONE
BEGIN:VEVENT
DTSTART;TZID=America/New_York:20220507T173000
DTEND;TZID=America/New_York:20220507T173000
DTSTAMP:20260424T233524
CREATED:20220414T024233Z
LAST-MODIFIED:20220414T024233Z
UID:25468-1651944600-1651944600@www.threeriversringers.org
SUMMARY:Reverberations - Ligonier\, PA
DESCRIPTION:Ring in the spring with Three Rivers Ringers! Pittsburgh’s premier handbell ensemble presents Reverberations\, a celebration of the most exciting and dynamic music written for bells\, including works by Fred Gramann\, Jason W. Krug and Bill Payn. Bring the whole family for a lively evening of beautiful music\, from a setting of Vaughan Williams’ King Weston to the rhythmic São Paulo\, the powerful Psalm of Peace and more! \n  \nFREE\, donations encouraged.
URL:http://www.threeriversringers.org/event/reverberations-ligonier-pa-2/
LOCATION:Heritage United Methodist Church\, 107 South Market St\, Ligonier\, PA\, 15658\, United States
ORGANIZER;CN="Three Rivers Ringers":MAILTO:info@threeriversringers.org
END:VEVENT
BEGIN:VEVENT
DTSTART;TZID=America/New_York:20220514T190000
DTEND;TZID=America/New_York:20220514T190000
DTSTAMP:20260424T233524
CREATED:20220414T024513Z
LAST-MODIFIED:20220414T024513Z
UID:25470-1652554800-1652554800@www.threeriversringers.org
SUMMARY:Reverberations - McMurray\, PA
DESCRIPTION:Ring in the spring with Three Rivers Ringers! Pittsburgh’s premier handbell ensemble presents Reverberations\, a celebration of the most exciting and dynamic music written for bells\, including works by Fred Gramann\, Jason W. Krug and Bill Payn. Bring the whole family for a lively evening of beautiful music\, from a setting of Vaughan Williams’ King Weston to the rhythmic São Paulo\, the powerful Psalm of Peace and more! \n  \nFREE\, donations encouraged.
URL:http://www.threeriversringers.org/event/reverberations-mcmurray-pa/
LOCATION:Center Presbyterian Church\, 255 Center Church Rd\, McMurray\, PA\, 15317\, United States
ORGANIZER;CN="Three Rivers Ringers":MAILTO:info@threeriversringers.org
END:VEVENT
BEGIN:VEVENT
DTSTART;TZID=America/New_York:20220515T160000
DTEND;TZID=America/New_York:20220515T160000
DTSTAMP:20260424T233524
CREATED:20220414T025628Z
LAST-MODIFIED:20220414T025628Z
UID:25472-1652630400-1652630400@www.threeriversringers.org
SUMMARY:Reverberations - Pittsburgh\, PA
DESCRIPTION:Ring in the spring with Three Rivers Ringers! Pittsburgh’s premier handbell ensemble presents Reverberations\, a celebration of the most exciting and dynamic music written for bells\, including works by Fred Gramann\, Jason W. Krug and Bill Payn. Bring the whole family for a lively evening of beautiful music\, from a setting of Vaughan Williams’ King Weston to the rhythmic São Paulo\, the powerful Psalm of Peace and more! \n  \nFREE\, donations encouraged.
URL:http://www.threeriversringers.org/event/reverberations-pittsburgh-pa/
LOCATION:First English Evangelical Lutheran Church\, Pittsburgh\, 615 Grant Street\, Pittsburgh\, PA\, 15219\, United States
ORGANIZER;CN="Three Rivers Ringers":MAILTO:info@threeriversringers.org
END:VEVENT
BEGIN:VEVENT
DTSTART;TZID=America/New_York:20220522T163000
DTEND;TZID=America/New_York:20220522T163000
DTSTAMP:20260424T233524
CREATED:20220414T030222Z
LAST-MODIFIED:20220414T030222Z
UID:25476-1653237000-1653237000@www.threeriversringers.org
SUMMARY:Reverberations - Butler\, PA
DESCRIPTION:Ring in the spring with Three Rivers Ringers! Pittsburgh’s premier handbell ensemble presents Reverberations\, a celebration of the most exciting and dynamic music written for bells\, including works by Fred Gramann\, Jason W. Krug and Bill Payn. Bring the whole family for a lively evening of beautiful music\, from a setting of Vaughan Williams’ King Weston to the rhythmic São Paulo\, the powerful Psalm of Peace and more! \n  \nFREE\, donations encouraged.
URL:http://www.threeriversringers.org/event/reverberations-butler-pa/
LOCATION:St. Mark’s Lutheran Church\, Butler\, 201 W Jefferson Street\, Butler\, PA\, 16001\, United States
ORGANIZER;CN="Three Rivers Ringers":MAILTO:info@threeriversringers.org
END:VEVENT
END:VCALENDAR