BEGIN:VCALENDAR
VERSION:2.0
PRODID:-//Three Rivers Ringers - ECPv6.15.20//NONSGML v1.0//EN
CALSCALE:GREGORIAN
METHOD:PUBLISH
X-ORIGINAL-URL:http://www.threeriversringers.org
X-WR-CALDESC:Events for Three Rivers Ringers
REFRESH-INTERVAL;VALUE=DURATION:PT1H
X-Robots-Tag:noindex
X-PUBLISHED-TTL:PT1H
BEGIN:VTIMEZONE
TZID:America/New_York
BEGIN:DAYLIGHT
TZOFFSETFROM:-0500
TZOFFSETTO:-0400
TZNAME:EDT
DTSTART:20200308T070000
END:DAYLIGHT
BEGIN:STANDARD
TZOFFSETFROM:-0400
TZOFFSETTO:-0500
TZNAME:EST
DTSTART:20201101T060000
END:STANDARD
BEGIN:DAYLIGHT
TZOFFSETFROM:-0500
TZOFFSETTO:-0400
TZNAME:EDT
DTSTART:20210314T070000
END:DAYLIGHT
BEGIN:STANDARD
TZOFFSETFROM:-0400
TZOFFSETTO:-0500
TZNAME:EST
DTSTART:20211107T060000
END:STANDARD
BEGIN:DAYLIGHT
TZOFFSETFROM:-0500
TZOFFSETTO:-0400
TZNAME:EDT
DTSTART:20220313T070000
END:DAYLIGHT
BEGIN:STANDARD
TZOFFSETFROM:-0400
TZOFFSETTO:-0500
TZNAME:EST
DTSTART:20221106T060000
END:STANDARD
END:VTIMEZONE
BEGIN:VEVENT
DTSTART;TZID=America/New_York:20211203T200000
DTEND;TZID=America/New_York:20211203T200000
DTSTAMP:20260425T121645
CREATED:20211117T230010Z
LAST-MODIFIED:20211117T230010Z
UID:25419-1638561600-1638561600@www.threeriversringers.org
SUMMARY:Christmas Kaleidoscope - Mt. Lebanon\, PA
DESCRIPTION:Three Rivers Ringers returns! After a year of virtual performances\, Pittsburgh’s premier handbell ensemble is thrilled to return to live concerts with Christmas Kaleidoscope. This December\, Three Rivers Ringers takes you on a colorful holiday journey\, filled with new takes on old favorites. It’s a wonderful evening of music\, featuring a powerful setting of I Heard the Bells on Christmas Day\, some swingin’ bells in St. Nick Boogie\, an exciting\, rhythmic O Come\, O Come\, Emmanuel and much more! \nFREE\, donations encouraged. All attendees must be masked and those over 12 should be vaccinated.
URL:http://www.threeriversringers.org/event/christmas-kaleidoscope-mt-lebanon-pa/
LOCATION:Mt. Lebanon United Methodist Church\, 3319 W. Liberty Ave\, Pittsburgh\, PA\, 15216\, United States
CATEGORIES:Concert
ATTACH;FMTTYPE=image/jpeg:http://www.threeriversringers.org/wp-content/uploads/2021/11/Christmas-Kaleidoscope-1000x563-1.jpg
ORGANIZER;CN="Three Rivers Ringers":MAILTO:info@threeriversringers.org
END:VEVENT
BEGIN:VEVENT
DTSTART;TZID=America/New_York:20211205T200000
DTEND;TZID=America/New_York:20211205T200000
DTSTAMP:20260425T121645
CREATED:20211117T230445Z
LAST-MODIFIED:20211117T230507Z
UID:25422-1638734400-1638734400@www.threeriversringers.org
SUMMARY:Christmas Kaleidoscope - Wexford\, PA
DESCRIPTION:Three Rivers Ringers returns! After a year of virtual performances\, Pittsburgh’s premier handbell ensemble is thrilled to return to live concerts with Christmas Kaleidoscope. This December\, Three Rivers Ringers takes you on a colorful holiday journey\, filled with new takes on old favorites. It’s a wonderful evening of music\, featuring a powerful setting of I Heard the Bells on Christmas Day\, some swingin’ bells in St. Nick Boogie\, an exciting\, rhythmic O Come\, O Come\, Emmanuel and much more! \nFREE\, donations encouraged. All attendees must be masked and those over 12 should be vaccinated.
URL:http://www.threeriversringers.org/event/christmas-kaleidoscope-wexford-pa/
LOCATION:Perry Highway Lutheran Church\, 11403 Perry Highway\, Wexford\, PA\, 15090\, United States
CATEGORIES:Concert
ATTACH;FMTTYPE=image/jpeg:http://www.threeriversringers.org/wp-content/uploads/2021/11/Christmas-Kaleidoscope-1000x563-1.jpg
ORGANIZER;CN="Three Rivers Ringers":MAILTO:info@threeriversringers.org
END:VEVENT
BEGIN:VEVENT
DTSTART;TZID=America/New_York:20211211T190000
DTEND;TZID=America/New_York:20211211T190000
DTSTAMP:20260425T121645
CREATED:20211117T230623Z
LAST-MODIFIED:20211117T230623Z
UID:25424-1639249200-1639249200@www.threeriversringers.org
SUMMARY:Christmas Kaleidoscope - Washington\, PA
DESCRIPTION:Three Rivers Ringers returns! After a year of virtual performances\, Pittsburgh’s premier handbell ensemble is thrilled to return to live concerts with Christmas Kaleidoscope. This December\, Three Rivers Ringers takes you on a colorful holiday journey\, filled with new takes on old favorites. It’s a wonderful evening of music\, featuring a powerful setting of I Heard the Bells on Christmas Day\, some swingin’ bells in St. Nick Boogie\, an exciting\, rhythmic O Come\, O Come\, Emmanuel and much more! \nFREE\, donations encouraged. All attendees must be masked and those over 12 should be vaccinated.
URL:http://www.threeriversringers.org/event/christmas-kaleidoscope-washington-pa/
LOCATION:First Presbyterian Church\, 1793\, 100 E. Wheeling St\, Washington\, PA\, 15301\, United States
CATEGORIES:Concert
ATTACH;FMTTYPE=image/jpeg:http://www.threeriversringers.org/wp-content/uploads/2021/11/Christmas-Kaleidoscope-1000x563-1.jpg
ORGANIZER;CN="Three Rivers Ringers":MAILTO:info@threeriversringers.org
END:VEVENT
BEGIN:VEVENT
DTSTART;TZID=America/New_York:20211218T160000
DTEND;TZID=America/New_York:20211218T160000
DTSTAMP:20260425T121645
CREATED:20211117T230801Z
LAST-MODIFIED:20211117T230801Z
UID:25426-1639843200-1639843200@www.threeriversringers.org
SUMMARY:Christmas Kaleidoscope - Sewickley\, PA
DESCRIPTION:Three Rivers Ringers returns! After a year of virtual performances\, Pittsburgh’s premier handbell ensemble is thrilled to return to live concerts with Christmas Kaleidoscope. This December\, Three Rivers Ringers takes you on a colorful holiday journey\, filled with new takes on old favorites. It’s a wonderful evening of music\, featuring a powerful setting of I Heard the Bells on Christmas Day\, some swingin’ bells in St. Nick Boogie\, an exciting\, rhythmic O Come\, O Come\, Emmanuel and much more! \nFREE\, donations encouraged. All attendees must be masked and those over 12 should be vaccinated.
URL:http://www.threeriversringers.org/event/christmas-kaleidoscope-sewickley-pa/
LOCATION:St. Stephen’s Church\, 405 Frederick Ave\, Sewickley\, PA\, 15143\, United States
CATEGORIES:Concert
ATTACH;FMTTYPE=image/jpeg:http://www.threeriversringers.org/wp-content/uploads/2021/11/Christmas-Kaleidoscope-1000x563-1.jpg
ORGANIZER;CN="Three Rivers Ringers":MAILTO:info@threeriversringers.org
END:VEVENT
BEGIN:VEVENT
DTSTART;TZID=America/New_York:20211219T193000
DTEND;TZID=America/New_York:20211219T193000
DTSTAMP:20260425T121645
CREATED:20211117T230914Z
LAST-MODIFIED:20211117T230914Z
UID:25428-1639942200-1639942200@www.threeriversringers.org
SUMMARY:Christmas Kaleidoscope - Allison Park\, PA
DESCRIPTION:Three Rivers Ringers returns! After a year of virtual performances\, Pittsburgh’s premier handbell ensemble is thrilled to return to live concerts with Christmas Kaleidoscope. This December\, Three Rivers Ringers takes you on a colorful holiday journey\, filled with new takes on old favorites. It’s a wonderful evening of music\, featuring a powerful setting of I Heard the Bells on Christmas Day\, some swingin’ bells in St. Nick Boogie\, an exciting\, rhythmic O Come\, O Come\, Emmanuel and much more! \nFREE\, donations encouraged. All attendees must be masked and those over 12 should be vaccinated.
URL:http://www.threeriversringers.org/event/christmas-kaleidoscope-allison-park-pa/
LOCATION:St. Paul’s United Methodist Church\, 1965 Ferguson Rd\, Allison Park\, PA\, 15101\, United States
CATEGORIES:Concert
ATTACH;FMTTYPE=image/jpeg:http://www.threeriversringers.org/wp-content/uploads/2021/11/Christmas-Kaleidoscope-1000x563-1.jpg
ORGANIZER;CN="Three Rivers Ringers":MAILTO:info@threeriversringers.org
END:VEVENT
END:VCALENDAR