BEGIN:VCALENDAR
VERSION:2.0
PRODID:-//Three Rivers Ringers - ECPv6.15.20//NONSGML v1.0//EN
CALSCALE:GREGORIAN
METHOD:PUBLISH
X-WR-CALNAME:Three Rivers Ringers
X-ORIGINAL-URL:http://www.threeriversringers.org
X-WR-CALDESC:Events for Three Rivers Ringers
REFRESH-INTERVAL;VALUE=DURATION:PT1H
X-Robots-Tag:noindex
X-PUBLISHED-TTL:PT1H
BEGIN:VTIMEZONE
TZID:America/New_York
BEGIN:DAYLIGHT
TZOFFSETFROM:-0500
TZOFFSETTO:-0400
TZNAME:EDT
DTSTART:20130310T070000
END:DAYLIGHT
BEGIN:STANDARD
TZOFFSETFROM:-0400
TZOFFSETTO:-0500
TZNAME:EST
DTSTART:20131103T060000
END:STANDARD
BEGIN:DAYLIGHT
TZOFFSETFROM:-0500
TZOFFSETTO:-0400
TZNAME:EDT
DTSTART:20140309T070000
END:DAYLIGHT
BEGIN:STANDARD
TZOFFSETFROM:-0400
TZOFFSETTO:-0500
TZNAME:EST
DTSTART:20141102T060000
END:STANDARD
BEGIN:DAYLIGHT
TZOFFSETFROM:-0500
TZOFFSETTO:-0400
TZNAME:EDT
DTSTART:20150308T070000
END:DAYLIGHT
BEGIN:STANDARD
TZOFFSETFROM:-0400
TZOFFSETTO:-0500
TZNAME:EST
DTSTART:20151101T060000
END:STANDARD
BEGIN:DAYLIGHT
TZOFFSETFROM:-0500
TZOFFSETTO:-0400
TZNAME:EDT
DTSTART:20160313T070000
END:DAYLIGHT
BEGIN:STANDARD
TZOFFSETFROM:-0400
TZOFFSETTO:-0500
TZNAME:EST
DTSTART:20161106T060000
END:STANDARD
END:VTIMEZONE
BEGIN:VEVENT
DTSTART;TZID=America/New_York:20151211T200000
DTEND;TZID=America/New_York:20151211T200000
DTSTAMP:20260422T182753
CREATED:20151121T174504Z
LAST-MODIFIED:20151121T180140Z
UID:1018-1449864000-1449864000@www.threeriversringers.org
SUMMARY:Highmark Holiday Pops
DESCRIPTION:Three Rivers Ringers performs with the Pittsburgh Symphony Orchestra at the… \nHighmark Holiday Pops\nWe are absolutely thrilled to be performing on the legendary stage of Heinz Hall with the world-class Pittsburgh Symphony Orchestra this December! The Holiday Pops is a Pittsburgh tradition\, filled with great tunes played by the best musicians in the world\, and is perfect for families.  Conducted by Daniel Meyer\, guest artists include Three Rivers Ringers\, The Voice’s Chris Jamison\, the Mendelssohn Choir of Pittsburgh\, Attack Theatre and of course Jolly Old Saint Nick! \nHighmark Holiday Pops\nFriday\, Dec 11 at 8 P.M.\nSaturday\, Dec 12 at 2:30 & 8 P.M.\nSunday\, Dec. 13 at 2:30 P.M.\nSaturday\, Dec. 19 at 2:30 & 8 P.M.\nSunday\, Dec. 20 at 2:30 P.M \nHeinz Hall\n600 Penn Avenue\nPittsburgh\, PA  15222 \nBuy your  Highmark Holiday Pops tickets today!
URL:http://www.threeriversringers.org/event/pittsburgh-symphony-highmark-holiday-pops/
LOCATION:Heinz Hall for the Performing Arts\, 600 Penn Ave\, Pittsburgh\, PA\, 15222\, United States
CATEGORIES:Concert
END:VEVENT
BEGIN:VEVENT
DTSTART;TZID=America/New_York:20151206T190000
DTEND;TZID=America/New_York:20151206T200000
DTSTAMP:20260422T182753
CREATED:20151118T040957Z
LAST-MODIFIED:20151118T041620Z
UID:1015-1449428400-1449432000@www.threeriversringers.org
SUMMARY:Carols of the Bells - Allison Park\, PA
DESCRIPTION:Carols of the Bells\nWinter 2015 Concert Series\n\nIt’s the most wonderful time of the year… for Carols of the Bells. In addition to our debut performances with the Pittsburgh Symphony Orchestra\, Three Rivers Ringers presents 3 stand-alone concerts filled with holiday favorites. Pittsburgh’s premier handbell ensemble will take your breath away with the serene Coventry Carol and Betty Garee’s ethereal setting of Away in a Manger. Join us and you’ll hear a lively arrangement of Go Tell It on the Mountain (with a dash of Prokofiev) and the return of the spectacular The First Noel – plus much more! \nSunday\, December 6\, 2015 at 7:00 PM\nSt. Paul’s United Methodist Church\n1965 Ferguson Rd\, Allison Park\, PA 15101\nFREE concert – donations accepted
URL:http://www.threeriversringers.org/event/carols-of-the-bells-allison-park-pa/
LOCATION:St. Paul’s United Methodist Church\, 1965 Ferguson Rd\, Allison Park\, PA\, 15101\, United States
CATEGORIES:Concert
ORGANIZER;CN="Three Rivers Ringers":MAILTO:info@threeriversringers.org
END:VEVENT
BEGIN:VEVENT
DTSTART;TZID=America/New_York:20151205T140000
DTEND;TZID=America/New_York:20151205T140000
DTSTAMP:20260422T182753
CREATED:20151115T205153Z
LAST-MODIFIED:20151118T035719Z
UID:1010-1449324000-1449324000@www.threeriversringers.org
SUMMARY:Carols of the Bells - Emlenton\, PA
DESCRIPTION:Carols of the Bells\nWinter 2015 Concert Series\n\nIt’s the most wonderful time of the year… for Carols of the Bells. In addition to our debut performances with the Pittsburgh Symphony Orchestra\, Three Rivers Ringers presents 3 stand-alone concerts filled with holiday favorites. Pittsburgh’s premier handbell ensemble will take your breath away with the serene Coventry Carol and Betty Garee’s ethereal setting of Away in a Manger. Join us and you’ll hear a lively arrangement of Go Tell It on the Mountain (with a dash of Prokofiev) and the return of the spectacular The First Noel – plus much more! \nThree Rivers Ringers is pleased to return to Emlenton\, Pennsylvania in the the beautiful Allegheny River Valley to kick off the season as part of the Allegheny RiverStone Center for the Arts’ concert series. \nSaturday\, December 5\, 2015 at 2:00 PM\nEmlenton United Methodist Church\n1303 Kerr Ave\, Emlenton\, PA 16373\nDirections\n-Buy tickets at alleghenyriverstone.org \nTickets $15 for adults\, $5 for students
URL:http://www.threeriversringers.org/event/carols-of-the-bells-emlenton-pa/
LOCATION:Emlenton United Methodist Church\, 1303 Kerr Ave\, Emlenton\, PA\, 16373\, United States
CATEGORIES:Concert
ORGANIZER;CN="Three Rivers Ringers":MAILTO:info@threeriversringers.org
END:VEVENT
BEGIN:VEVENT
DTSTART;TZID=America/New_York:20150515T200000
DTEND;TZID=America/New_York:20150515T200000
DTSTAMP:20260422T182753
CREATED:20150327T172559Z
LAST-MODIFIED:20150501T183129Z
UID:944-1431720000-1431720000@www.threeriversringers.org
SUMMARY:Canticles & Carillons - Pittsburgh (Oakland)
DESCRIPTION:You’ve celebrated with us at our holiday concerts and danced with us last spring. This May\, Pittsburgh’s premier handbell ensemble is presenting great treasures of sacred music\, as only Three Rivers Ringers can. In Canticles & Carillons\, we explore the wealth of hymn tunes arranged for handbells\, from the serene to the majestic. This program is filled with glorious works by Beethoven and Brahms\, the powerful tunes A Mighty Fortress and Prelude on Herzliebster Jesu\, plus much more. Save the dates and join us! \nFriday\, May 15\, 2015 at 8:00 PM\nChurch of the Ascension\n4729 Ellsworth Ave\nPittsburgh\, PA  15213\nDirections\n-Tickets $7 in advance\, $10 at door
URL:http://www.threeriversringers.org/event/canticles-carillons-pittsburgh-oakland/
LOCATION:Church of the Ascension\, 4729 Ellsworth Ave\, Pittsburgh\, PA\, 15213
CATEGORIES:Concert
ORGANIZER;CN="Three Rivers Ringers":MAILTO:info@threeriversringers.org
END:VEVENT
BEGIN:VEVENT
DTSTART;TZID=America/New_York:20150509T200000
DTEND;TZID=America/New_York:20150509T200000
DTSTAMP:20260422T182753
CREATED:20150327T172411Z
LAST-MODIFIED:20150501T183116Z
UID:943-1431201600-1431201600@www.threeriversringers.org
SUMMARY:Canticles & Carillons - Washington\, PA
DESCRIPTION:You’ve celebrated with us at our holiday concerts and danced with us last spring. This May\, Pittsburgh’s premier handbell ensemble is presenting great treasures of sacred music\, as only Three Rivers Ringers can. In Canticles & Carillons\, we explore the wealth of hymn tunes arranged for handbells\, from the serene to the majestic. This program is filled with glorious works by Beethoven and Brahms\, the powerful tunes A Mighty Fortress and Prelude on Herzliebster Jesu\, plus much more. Save the dates and join us! \nSaturday\, May 9\, 2015 at 8:00 PM\nFirst Presbyterian Church\, 1793\n100 E Wheeling St\nWashington\, PA  15301\nDirections\n-Tickets $7 in advance\, $10 at door
URL:http://www.threeriversringers.org/event/canticles-carillons-washington-pa/
LOCATION:First Presbyterian Church\, 1793\, 100 E. Wheeling St\, Washington\, PA\, 15301\, United States
CATEGORIES:Concert
ORGANIZER;CN="Three Rivers Ringers":MAILTO:info@threeriversringers.org
END:VEVENT
BEGIN:VEVENT
DTSTART;TZID=America/New_York:20150508T200000
DTEND;TZID=America/New_York:20150508T200000
DTSTAMP:20260422T182753
CREATED:20150327T172820Z
LAST-MODIFIED:20150501T183059Z
UID:945-1431115200-1431115200@www.threeriversringers.org
SUMMARY:Canticles & Carillons - Mt. Lebanon\, PA
DESCRIPTION:You’ve celebrated with us at our holiday concerts and danced with us last spring. This May\, Pittsburgh’s premier handbell ensemble is presenting great treasures of sacred music\, as only Three Rivers Ringers can. In Canticles & Carillons\, we explore the wealth of hymn tunes arranged for handbells\, from the serene to the majestic. This program is filled with glorious works by Beethoven and Brahms\, the powerful tunes A Mighty Fortress and Prelude on Herzliebster Jesu\, plus much more. Save the dates and join us! \nFREE Concert! \nFriday\, May 8\, 2015 at 8:00 PM\nMt. Lebanon United Methodist Church\n3319 W. Liberty Ave\nPittsburgh\, PA  15216\nDirections\n-Free concert\, donations accepted
URL:http://www.threeriversringers.org/event/canticles-carillons-mt-lebanon-pa/
LOCATION:Mt. Lebanon United Methodist Church\, 3319 W. Liberty Ave\, Pittsburgh\, PA\, 15216\, United States
CATEGORIES:Concert
ORGANIZER;CN="Three Rivers Ringers":MAILTO:info@threeriversringers.org
END:VEVENT
BEGIN:VEVENT
DTSTART;TZID=America/New_York:20150503T150000
DTEND;TZID=America/New_York:20150503T150000
DTSTAMP:20260422T182753
CREATED:20150327T171550Z
LAST-MODIFIED:20150501T183024Z
UID:940-1430665200-1430665200@www.threeriversringers.org
SUMMARY:Canticles & Carillons - Sewickley\, PA
DESCRIPTION:You’ve celebrated with us at our holiday concerts and danced with us last spring. This May\, Pittsburgh’s premier handbell ensemble is presenting great treasures of sacred music\, as only Three Rivers Ringers can. In Canticles & Carillons\, we explore the wealth of hymn tunes arranged for handbells\, from the serene to the majestic. This program is filled with glorious works by Beethoven and Brahms\, the powerful tunes A Mighty Fortress and Prelude on Herzliebster Jesu\, plus much more. Save the dates and join us! \nSunday\, May 3\, 2015 at 3:00 PM\nSt. Stephen’s Church\n405 Frederick Ave\nSewickley\, PA  15143\nDirections\n-Tickets $7 in advance\, $10 at door
URL:http://www.threeriversringers.org/event/canticles-carillons-sewickley-pa/
LOCATION:St. Stephen’s Church\, 405 Frederick Ave\, Sewickley\, PA\, 15143\, United States
CATEGORIES:Concert
ORGANIZER;CN="Three Rivers Ringers":MAILTO:info@threeriversringers.org
END:VEVENT
BEGIN:VEVENT
DTSTART;TZID=America/New_York:20141220T193000
DTEND;TZID=America/New_York:20141220T193000
DTSTAMP:20260422T182753
CREATED:20141212T183415Z
LAST-MODIFIED:20141212T183415Z
UID:887-1419103800-1419103800@www.threeriversringers.org
SUMMARY:Noël - Allison Park\, PA
DESCRIPTION:Experience the beauty of the holiday season at Noël\, Three Rivers Ringers’ Winter Concert Series. The virtuosity of Pittsburgh’s premier handbell ensemble will be on display in four delightful selections from Tchaikovsky’s The Nutcracker\, Joel Raney’s exotic We Three Kings\, and timeless favorites like Sleigh Ride\, Silent Night and more. We are taking the magical sound of handbells to new heights this season with concerts perfect for all ages – come join us! \nFREE concert at Allison Park! \nSaturday\, December 20 – 7:30 PM\nSt. Paul’s United Methodist Church\n1965 Ferguson Rd\, Allison Park\, PA 15101\nDirections\n-Free\, donations accepted \n  \n 
URL:http://www.threeriversringers.org/event/noel-allison-park-pa/
LOCATION:St. Paul’s United Methodist Church\, 1965 Ferguson Rd\, Allison Park\, PA\, 15101\, United States
ORGANIZER;CN="Three Rivers Ringers":MAILTO:info@threeriversringers.org
END:VEVENT
BEGIN:VEVENT
DTSTART;TZID=America/New_York:20141214T160000
DTEND;TZID=America/New_York:20141214T160000
DTSTAMP:20260422T182753
CREATED:20141212T183019Z
LAST-MODIFIED:20141212T183107Z
UID:884-1418572800-1418572800@www.threeriversringers.org
SUMMARY:Noël - Sewickley\, PA
DESCRIPTION:Experience the beauty of the holiday season at Noël\, Three Rivers Ringers’ Winter Concert Series. The virtuosity of Pittsburgh’s premier handbell ensemble will be on display in four delightful selections from Tchaikovsky’s The Nutcracker\, Joel Raney’s exotic We Three Kings\, and timeless favorites like Sleigh Ride\, Silent Night and more. We are taking the magical sound of handbells to new heights this season with concerts perfect for all ages – come join us this Sunday! \nSunday\, December 14 – 4:00 PM\nSt. Stephen’s Church\n405 Frederick Ave\, Pittsburgh\, PA 15143\nDirections\n-Tickets $7 in advance\, $10 at door\n \n  \n 
URL:http://www.threeriversringers.org/event/noel-sewickley-pa/
LOCATION:St. Stephen’s Church\, 405 Frederick Ave\, Sewickley\, PA\, 15143\, United States
ORGANIZER;CN="Three Rivers Ringers":MAILTO:info@threeriversringers.org
END:VEVENT
BEGIN:VEVENT
DTSTART;TZID=America/New_York:20141213T140000
DTEND;TZID=America/New_York:20141213T140000
DTSTAMP:20260422T182753
CREATED:20141212T182353Z
LAST-MODIFIED:20141212T182353Z
UID:882-1418479200-1418479200@www.threeriversringers.org
SUMMARY:Noël - Emlenton\, PA
DESCRIPTION:Experience the beauty of the holiday season at Noël\, Three Rivers Ringers’ Winter Concert Series. The virtuosity of Pittsburgh’s premier handbell ensemble will be on display in four delightful selections from Tchaikovsky’s The Nutcracker\, Joel Raney’s exotic We Three Kings\, and timeless favorites like Sleigh Ride\, Silent Night and more. We are taking the magical sound of handbells to new heights this season with concerts perfect for all ages – come join us this Saturday! \nSaturday\, December 13 – 2:00 PM\nEmlenton United Methodist Church\n1303 Kerr Ave\, Emlenton\, PA 16373\nDirections\n-Tickets $15 for adults\, $8 for students\, available at 724.659.3153 \n  \n 
URL:http://www.threeriversringers.org/event/noel-emlenton-pa/
LOCATION:Emlenton United Methodist Church\, 1303 Kerr Ave\, Emlenton\, PA\, 16373\, United States
END:VEVENT
BEGIN:VEVENT
DTSTART;TZID=America/New_York:20141212T200000
DTEND;TZID=America/New_York:20141212T200000
DTSTAMP:20260422T182753
CREATED:20141212T174926Z
LAST-MODIFIED:20141212T183459Z
UID:879-1418414400-1418414400@www.threeriversringers.org
SUMMARY:Noël - Mt. Lebanon\, PA
DESCRIPTION:Experience the beauty of the holiday season at Noël\, Three Rivers Ringers’ Winter Concert Series. The virtuosity of Pittsburgh’s premier handbell ensemble will be on display in four delightful selections from Tchaikovsky’s The Nutcracker\, Joel Raney’s exotic We Three Kings\, and timeless favorites like Sleigh Ride\, Silent Night and more. We are taking the magical sound of handbells to new heights this season with concerts perfect for all ages – come join us! \nFREE tonight at Bower Hill Community Church in Mt. Lebanon! \nFriday\, December 12 – 8:00 PM\nBower Hill Community Church\n70 Moffett St\, Pittsburgh\, PA 15243\nDirections\n-Free\, donations accepted
URL:http://www.threeriversringers.org/event/noel/
LOCATION:PA
END:VEVENT
END:VCALENDAR