BEGIN:VCALENDAR
VERSION:2.0
PRODID:-//Three Rivers Ringers - ECPv6.15.20//NONSGML v1.0//EN
CALSCALE:GREGORIAN
METHOD:PUBLISH
X-WR-CALNAME:Three Rivers Ringers
X-ORIGINAL-URL:http://www.threeriversringers.org
X-WR-CALDESC:Events for Three Rivers Ringers
REFRESH-INTERVAL;VALUE=DURATION:PT1H
X-Robots-Tag:noindex
X-PUBLISHED-TTL:PT1H
BEGIN:VTIMEZONE
TZID:America/New_York
BEGIN:DAYLIGHT
TZOFFSETFROM:-0500
TZOFFSETTO:-0400
TZNAME:EDT
DTSTART:20250309T070000
END:DAYLIGHT
BEGIN:STANDARD
TZOFFSETFROM:-0400
TZOFFSETTO:-0500
TZNAME:EST
DTSTART:20251102T060000
END:STANDARD
BEGIN:DAYLIGHT
TZOFFSETFROM:-0500
TZOFFSETTO:-0400
TZNAME:EDT
DTSTART:20260308T070000
END:DAYLIGHT
BEGIN:STANDARD
TZOFFSETFROM:-0400
TZOFFSETTO:-0500
TZNAME:EST
DTSTART:20261101T060000
END:STANDARD
BEGIN:DAYLIGHT
TZOFFSETFROM:-0500
TZOFFSETTO:-0400
TZNAME:EDT
DTSTART:20270314T070000
END:DAYLIGHT
BEGIN:STANDARD
TZOFFSETFROM:-0400
TZOFFSETTO:-0500
TZNAME:EST
DTSTART:20271107T060000
END:STANDARD
END:VTIMEZONE
BEGIN:VEVENT
DTSTART;TZID=America/New_York:20260424T193000
DTEND;TZID=America/New_York:20260424T210000
DTSTAMP:20260421T212634
CREATED:20260418T165344Z
LAST-MODIFIED:20260418T165345Z
UID:25793-1777059000-1777064400@www.threeriversringers.org
SUMMARY:Far and Wide – Sewickley
DESCRIPTION:Join Three Rivers Ringers as we journey Far and Wide to encounter the expansive and varied repertoire of handbells. We will explore the Land of Make Believe\, witness the Japanese cherry blossoms\, climb the Stairway to Heaven\, and traverse Yorkshire on our way to Scarborough Fair. With other titles including Champaca\, Moon Over the Ruined Castle\, and Rant and Rave\, this program is sure to demonstrate the versatility and accessibility of this art form. \nConcerts are FREE\, donations encouraged. \nFar & Wide\nSpring 2026 Concert Series \nFriday\, April 24 at 7:30 PM\nSt. Stephen’s Anglican Church\n405 Frederick Ave\nSewickley\, PA  15143 \n 
URL:http://www.threeriversringers.org/event/far-and-wide-sewickley/
LOCATION:St. Stephen’s Church\, 405 Frederick Ave\, Sewickley\, PA\, 15143\, United States
CATEGORIES:Concert
ATTACH;FMTTYPE=image/png:http://www.threeriversringers.org/wp-content/uploads/2026/04/TRR_FarWide2026_resized-2.png
ORGANIZER;CN="Three Rivers Ringers":MAILTO:info@threeriversringers.org
END:VEVENT
BEGIN:VEVENT
DTSTART;TZID=America/New_York:20260426T183000
DTEND;TZID=America/New_York:20260426T200000
DTSTAMP:20260421T212634
CREATED:20260418T165645Z
LAST-MODIFIED:20260418T165645Z
UID:25796-1777228200-1777233600@www.threeriversringers.org
SUMMARY:Far and Wide – Elizabeth
DESCRIPTION:Join Three Rivers Ringers as we journey Far and Wide to encounter the expansive and varied repertoire of handbells. We will explore the Land of Make Believe\, witness the Japanese cherry blossoms\, climb the Stairway to Heaven\, and traverse Yorkshire on our way to Scarborough Fair. With other titles including Champaca\, Moon Over the Ruined Castle\, and Rant and Rave\, this program is sure to demonstrate the versatility and accessibility of this art form. \nConcerts are FREE\, donations encouraged. \nFar & Wide\nSpring 2026 Concert Series \nSunday\, April 26 at 6:30 PM\nCentral Highlands Community United Methodist Church\n100 Timothy Dr\nElizabeth\, PA  15037
URL:http://www.threeriversringers.org/event/far-and-wide-elizabeth/
LOCATION:Central Highlands Community United Methodist Church\, 100 Timothy Dr\, Elizabeth\, PA\, 15037\, United States
CATEGORIES:Concert
ATTACH;FMTTYPE=image/png:http://www.threeriversringers.org/wp-content/uploads/2026/04/TRR_FarWide2026_resized-2.png
ORGANIZER;CN="Three Rivers Ringers":MAILTO:info@threeriversringers.org
END:VEVENT
BEGIN:VEVENT
DTSTART;TZID=America/New_York:20260501T193000
DTEND;TZID=America/New_York:20260501T210000
DTSTAMP:20260421T212634
CREATED:20260418T165820Z
LAST-MODIFIED:20260418T165820Z
UID:25798-1777663800-1777669200@www.threeriversringers.org
SUMMARY:Far and Wide – Mt. Lebanon
DESCRIPTION:Join Three Rivers Ringers as we journey Far and Wide to encounter the expansive and varied repertoire of handbells. We will explore the Land of Make Believe\, witness the Japanese cherry blossoms\, climb the Stairway to Heaven\, and traverse Yorkshire on our way to Scarborough Fair. With other titles including Champaca\, Moon Over the Ruined Castle\, and Rant and Rave\, this program is sure to demonstrate the versatility and accessibility of this art form. \nConcerts are FREE\, donations encouraged. \nFar & Wide\nSpring 2026 Concert Series \nFriday\, May 1 at 7:30 PM\nMt. Lebanon United Methodist Church\n3319 West Liberty Ave\nPittsburgh\, PA 15216
URL:http://www.threeriversringers.org/event/far-and-wide-mt-lebanon/
LOCATION:Mt. Lebanon United Methodist Church\, 3319 W. Liberty Ave\, Pittsburgh\, PA\, 15216\, United States
CATEGORIES:Concert
ATTACH;FMTTYPE=image/png:http://www.threeriversringers.org/wp-content/uploads/2026/04/TRR_FarWide2026_resized-2.png
ORGANIZER;CN="Three Rivers Ringers":MAILTO:info@threeriversringers.org
END:VEVENT
BEGIN:VEVENT
DTSTART;TZID=America/New_York:20260503T163000
DTEND;TZID=America/New_York:20260503T180000
DTSTAMP:20260421T212634
CREATED:20260418T165938Z
LAST-MODIFIED:20260418T165938Z
UID:25800-1777825800-1777831200@www.threeriversringers.org
SUMMARY:Far and Wide – Glenshaw
DESCRIPTION:Join Three Rivers Ringers as we journey Far and Wide to encounter the expansive and varied repertoire of handbells. We will explore the Land of Make Believe\, witness the Japanese cherry blossoms\, climb the Stairway to Heaven\, and traverse Yorkshire on our way to Scarborough Fair. With other titles including Champaca\, Moon Over the Ruined Castle\, and Rant and Rave\, this program is sure to demonstrate the versatility and accessibility of this art form. \nConcerts are FREE\, donations encouraged. \nFar & Wide\nSpring 2026 Concert Series \nSunday\, May 3 at 4:30 PM\nElfinwild Presbyterian Church\n3200 Mt. Royal Blvd\nGlenshaw\, PA 15116
URL:http://www.threeriversringers.org/event/far-and-wide-glenshaw/
LOCATION:Elfinwild Presbyterian Church\, 3200 Mt. Royal Blvd\, Glenshaw\, PA\, 15116\, United States
CATEGORIES:Concert
ATTACH;FMTTYPE=image/png:http://www.threeriversringers.org/wp-content/uploads/2026/04/TRR_FarWide2026_resized-2.png
ORGANIZER;CN="Three Rivers Ringers":MAILTO:info@threeriversringers.org
END:VEVENT
END:VCALENDAR