BEGIN:VCALENDAR
VERSION:2.0
PRODID:-//Three Rivers Ringers - ECPv6.15.20//NONSGML v1.0//EN
CALSCALE:GREGORIAN
METHOD:PUBLISH
X-ORIGINAL-URL:http://www.threeriversringers.org
X-WR-CALDESC:Events for Three Rivers Ringers
REFRESH-INTERVAL;VALUE=DURATION:PT1H
X-Robots-Tag:noindex
X-PUBLISHED-TTL:PT1H
BEGIN:VTIMEZONE
TZID:America/New_York
BEGIN:DAYLIGHT
TZOFFSETFROM:-0500
TZOFFSETTO:-0400
TZNAME:EDT
DTSTART:20240310T070000
END:DAYLIGHT
BEGIN:STANDARD
TZOFFSETFROM:-0400
TZOFFSETTO:-0500
TZNAME:EST
DTSTART:20241103T060000
END:STANDARD
BEGIN:DAYLIGHT
TZOFFSETFROM:-0500
TZOFFSETTO:-0400
TZNAME:EDT
DTSTART:20250309T070000
END:DAYLIGHT
BEGIN:STANDARD
TZOFFSETFROM:-0400
TZOFFSETTO:-0500
TZNAME:EST
DTSTART:20251102T060000
END:STANDARD
BEGIN:DAYLIGHT
TZOFFSETFROM:-0500
TZOFFSETTO:-0400
TZNAME:EDT
DTSTART:20260308T070000
END:DAYLIGHT
BEGIN:STANDARD
TZOFFSETFROM:-0400
TZOFFSETTO:-0500
TZNAME:EST
DTSTART:20261101T060000
END:STANDARD
END:VTIMEZONE
BEGIN:VEVENT
DTSTART;TZID=America/New_York:20251221T190000
DTEND;TZID=America/New_York:20251221T203000
DTSTAMP:20260421T230247
CREATED:20251116T203831Z
LAST-MODIFIED:20251116T203831Z
UID:25734-1766343600-1766349000@www.threeriversringers.org
SUMMARY:Carols of Christmas - Sewickley
DESCRIPTION:Ring in the holiday season with Pittsburgh’s premier handbell ensemble! Three Rivers Ringers performs its Winter Concert Series\, Carols of Christmas\, this December\, filled with memorable tunes including the nostalgic music from Rudolph the Red-Nosed Reindeer\, a popular tune from How the Grinch Stole Christmas\, the traditional O Come All Ye Faithful and a breathtaking setting of It Came Upon the Midnight Clear. Bring the whole family to celebrate the magic of the holiday season with Three Rivers Ringers! \nFREE\, donations encouraged. \nSunday\, December 21 at 7:00 PM\nSewickley United Methodist Church\n337 Broad St\nSewickley\, PA  15143
URL:http://www.threeriversringers.org/event/carols-of-christmas-sewickley/
LOCATION:Sewickley United Methodist Church\, 337 Broad St\, Sewickley\, PA\, 15143\, United States
CATEGORIES:Concert
ORGANIZER;CN="Three Rivers Ringers":MAILTO:info@threeriversringers.org
END:VEVENT
END:VCALENDAR