BEGIN:VCALENDAR
VERSION:2.0
PRODID:-//Three Rivers Ringers - ECPv6.15.20//NONSGML v1.0//EN
CALSCALE:GREGORIAN
METHOD:PUBLISH
X-WR-CALNAME:Three Rivers Ringers
X-ORIGINAL-URL:http://www.threeriversringers.org
X-WR-CALDESC:Events for Three Rivers Ringers
REFRESH-INTERVAL;VALUE=DURATION:PT1H
X-Robots-Tag:noindex
X-PUBLISHED-TTL:PT1H
BEGIN:VTIMEZONE
TZID:America/New_York
BEGIN:DAYLIGHT
TZOFFSETFROM:-0500
TZOFFSETTO:-0400
TZNAME:EDT
DTSTART:20230312T070000
END:DAYLIGHT
BEGIN:STANDARD
TZOFFSETFROM:-0400
TZOFFSETTO:-0500
TZNAME:EST
DTSTART:20231105T060000
END:STANDARD
BEGIN:DAYLIGHT
TZOFFSETFROM:-0500
TZOFFSETTO:-0400
TZNAME:EDT
DTSTART:20240310T070000
END:DAYLIGHT
BEGIN:STANDARD
TZOFFSETFROM:-0400
TZOFFSETTO:-0500
TZNAME:EST
DTSTART:20241103T060000
END:STANDARD
BEGIN:DAYLIGHT
TZOFFSETFROM:-0500
TZOFFSETTO:-0400
TZNAME:EDT
DTSTART:20250309T070000
END:DAYLIGHT
BEGIN:STANDARD
TZOFFSETFROM:-0400
TZOFFSETTO:-0500
TZNAME:EST
DTSTART:20251102T060000
END:STANDARD
END:VTIMEZONE
BEGIN:VEVENT
DTSTART;TZID=America/New_York:20241208T160000
DTEND;TZID=America/New_York:20241208T173000
DTSTAMP:20260422T161728
CREATED:20241023T210748Z
LAST-MODIFIED:20241023T210748Z
UID:25668-1733673600-1733679000@www.threeriversringers.org
SUMMARY:Noel! - North Versailles
DESCRIPTION:Join Three Rivers Ringers\, Pittsburgh’s premier handbell ensemble\, to celebrate the season with Noel! These live concerts will feature a variety of styles\, from African Noel to the magnificent The First Noel. You will also hear favorites such as Fum\, Fum\, Fum\, We Need A Little Christmas\,\nGaudete and more. \nFREE\, donations encouraged. \nSunday\, Dec. 8 at 4:00 PM\nSt. John’s Lutheran Church\n715 Lincoln Highway\nNorth Versailles\, PA 15137
URL:http://www.threeriversringers.org/event/noel-north-versailles/
LOCATION:St John’s Lutheran Church\, 715 Lincoln Highway (Rt 30)\, North Versailles\, PA\, 15137\, United States
CATEGORIES:Concert
ORGANIZER;CN="Three Rivers Ringers":MAILTO:info@threeriversringers.org
END:VEVENT
END:VCALENDAR