BEGIN:VCALENDAR
VERSION:2.0
PRODID:-//Three Rivers Ringers - ECPv6.15.20//NONSGML v1.0//EN
CALSCALE:GREGORIAN
METHOD:PUBLISH
X-WR-CALNAME:Three Rivers Ringers
X-ORIGINAL-URL:http://www.threeriversringers.org
X-WR-CALDESC:Events for Three Rivers Ringers
REFRESH-INTERVAL;VALUE=DURATION:PT1H
X-Robots-Tag:noindex
X-PUBLISHED-TTL:PT1H
BEGIN:VTIMEZONE
TZID:America/New_York
BEGIN:DAYLIGHT
TZOFFSETFROM:-0500
TZOFFSETTO:-0400
TZNAME:EDT
DTSTART:20220313T070000
END:DAYLIGHT
BEGIN:STANDARD
TZOFFSETFROM:-0400
TZOFFSETTO:-0500
TZNAME:EST
DTSTART:20221106T060000
END:STANDARD
BEGIN:DAYLIGHT
TZOFFSETFROM:-0500
TZOFFSETTO:-0400
TZNAME:EDT
DTSTART:20230312T070000
END:DAYLIGHT
BEGIN:STANDARD
TZOFFSETFROM:-0400
TZOFFSETTO:-0500
TZNAME:EST
DTSTART:20231105T060000
END:STANDARD
BEGIN:DAYLIGHT
TZOFFSETFROM:-0500
TZOFFSETTO:-0400
TZNAME:EDT
DTSTART:20240310T070000
END:DAYLIGHT
BEGIN:STANDARD
TZOFFSETFROM:-0400
TZOFFSETTO:-0500
TZNAME:EST
DTSTART:20241103T060000
END:STANDARD
END:VTIMEZONE
BEGIN:VEVENT
DTSTART;TZID=America/New_York:20231202T180000
DTEND;TZID=America/New_York:20231202T193000
DTSTAMP:20260423T102039
CREATED:20231112T021410Z
LAST-MODIFIED:20231112T021410Z
UID:25606-1701540000-1701545400@www.threeriversringers.org
SUMMARY:Ringing In Christmas - Elizabeth PA
DESCRIPTION:Saturday\, December 2nd\, 2023 at 6:00 PM\nCentral Highlands Community United Methodist Church\n100 Timothy Dr\, Elizabeth\, PA 15037 \nJoin Three Rivers Ringers\, Pittsburgh’s premiere handbell ensemble\, as we Ring In Christmas. Our live concerts will include favorites like Sing We Now of Christmas\, Jingle Bell Rock\, and The Snow Lay on the Ground as well as music from TV and movies including You’re A Mean One\, Mr. Grinch White Christmas\, and Somewhere In My Memory. \nFREE\, donations encouraged.
URL:http://www.threeriversringers.org/event/ringing-in-christmas-elizabeth-pa/
LOCATION:Central Highlands Community United Methodist Church\, 100 Timothy Dr\, Elizabeth\, PA\, 15037\, United States
CATEGORIES:Concert
ORGANIZER;CN="Three Rivers Ringers":MAILTO:info@threeriversringers.org
END:VEVENT
END:VCALENDAR